BEGIN:VCALENDAR
VERSION:2.0
METHOD:PUBLISH
PRODID:-//hacksw/handcal//NONSGML v1.0//EN
BEGIN:VEVENT
DTSTAMP:20260420T050911Z
DTSTART:20250404T170000Z
DTEND:20250404T183000Z
UID:20250404T170000Z-20250404T183000Z-1588@poller.veedelnews.de
SUMMARY:Theater Schmektakel
DESCRIPTION:Das komplette Programm mit mindestens fünf Akteuren\n„Ein 
 Schmektakel\nTexte und Lieder über das Essen\, Trinken und andere Genü
 sse“\nIm Pfarrsaal von St. Joseph als Veranstaltung der Pfarrbücherei 
 „Lesezeichen“ \nim Rahmen der an diesem Tag bundesweit stattfindenden 
 „Nacht der Bibliotheken“.\nDer Eintritt ist frei \nUm Spenden wird geb
 eten / für einen guten Zweck
X-ALT-DESC;FMTTYPE=text/html:<p style=text-align: center\;>Das komplet
 te Programm mit mindestens fünf Akteuren<br>\n<strong>„Ein Schmektakel
 &#8220\;</strong><br>\nTexte und Lieder über das Essen\, Trinken und a
 ndere Genüsse“</p>\n<p style=text-align: center\;>Im Pfarrsaal von St.
  Joseph als Veranstaltung der Pfarrbücherei „Lesezeichen“ <br>\nim Rah
 men der an diesem Tag bundesweit stattfindenden „Nacht der Bibliotheke
 n“.</p>\n<p>Der Eintritt ist frei <br>\nUm Spenden wird gebeten / für 
 einen guten Zweck</p>\n
URL:https://poller.veedelnews.de/termine/theater-schmektakel/?lang=de
ATTACH:https://poller.veedelnews.de/termine/theater-schmektakel/?lang=
 de
LOCATION:KÖB Bücherei (Katholische öffentliche Bücherei)\, Poller Haup
 tstr. 26\, Köln
END:VEVENT
END:VCALENDAR
